BEGIN:VCALENDAR
VERSION:2.0
PRODID:-//#ZigZagHR - ECPv5.0.0.2//NONSGML v1.0//EN
CALSCALE:GREGORIAN
METHOD:PUBLISH
X-WR-CALNAME:#ZigZagHR
X-ORIGINAL-URL:https://zigzaghr.be
X-WR-CALDESC:Events for #ZigZagHR
BEGIN:VTIMEZONE
TZID:Europe/Brussels
BEGIN:DAYLIGHT
TZOFFSETFROM:+0100
TZOFFSETTO:+0200
TZNAME:CEST
DTSTART:20240331T010000
END:DAYLIGHT
BEGIN:STANDARD
TZOFFSETFROM:+0200
TZOFFSETTO:+0100
TZNAME:CET
DTSTART:20241027T010000
END:STANDARD
END:VTIMEZONE
BEGIN:VEVENT
DTSTART;TZID=Europe/Brussels:20240605T160000
DTEND;TZID=Europe/Brussels:20240605T190000
DTSTAMP:20260421T085129
CREATED:20240205T095403Z
LAST-MODIFIED:20240723T093908Z
UID:51768-1717603200-1717614000@zigzaghr.be
SUMMARY:NXT @ Teamleader
DESCRIPTION:		\n						\n							\n							\n					\n			\n						\n				\n									\n					\n						\n									#ZigZagHR NXT\n					\n					\n				\n								\n				\n				\n				\n					NXT @ Teamleader				\n				\n				\n				\n							\n\n						\n				\n								\n			\n			\n						\n\n									\n						\n							Teamleader						\n					\n				\n				\n			\n			\n		\n						\n				\n				\n				\n							\n\n						\n				\n								\n			\n			\n						\n\n									\n						\n							05 juni 2024						\n					\n				\n				\n			\n			\n		\n						\n				\n				\n				\n							\n\n						\n				\n								\n			\n			\n						\n\n									\n						\n							16u00 - 20u00						\n					\n				\n				\n			\n			\n		\n						\n				\n				\n				\n									\n					\n						\n									Ik schrijf me in\n					\n					\n				\n								\n				\n					\n		\n					\n		\n				\n						\n					\n			\n						\n				\n									#ZigZagHR NXT op bezoek bij TeamleaderOp woensdag 5 juni gaan we met onze #ZigZagHR NXT community langs bij Teamleader voor alweer een boeiend bedrijfsbezoek!  Bij Teamleader geloven ze dat een getalenteerd en betrokken team de sleutel is tot succes en dus moedigen ze hun medewerkers aan om de leiding te nemen over hun eigen groeipad. De focus op groei strekt zich uit van het onboardingsproces tot continue ontwikkeling voor hun leiders\, want de groei van hun team bepaalt de groei van hun bedrijf. Hoe ondersteunen ze als HR team hun medewerkers hierin? Welke training en ontwikkelingsmogelijkheden voorzien ze?   Femke De Vleesschouwer (VP HR) en Lauranne Schellekens (Senior HR Business Partner) nemen ons mee voor een informatieve en inspirerende namiddag vol praktische tips omtrent HR\, met een focus op alles omtrent groei en ontwikkeling.   Programma:  16u – 16u30: Welkom – Mix & Mingle met een hapje en drankje 16u30 – 17u45: Deep dive – HR\, groei en ontwikkeling bij Teamleader door Femke De Vleesschouwer (VP HR) en Lauranne Schellekens (Senior HR Business Partner) 17u45 – 18u15: Achter de schermen 18u15 – 19u: Netwerkmoment We beloven je dat je\, zoals na elk bedrijfsbezoek\, naar huis gaat met frisse inspiratie\, concrete ideeën en nieuwe connecties 😊  Dit event is exclusief voor leden van onze #ZigZagHR NXT community.  Ben je lid? Schrijf je dan al gratis in en wees zeker van jouw plekje. Ben je nog geen lid? Word dan nu snel lid en mis niks! 								\n				\n					\n		\n					\n		\n				\n						\n					\n			\n						\n				\n					Locatie				\n				\n				\n				\n							\n\n						\n				\n								\n			\n			\n						\n\n									\n						\n							Teamleader						\n					\n				\n									\n						Dok-Noord 3A/101 - 9000 Gent					 \n				\n			\n			\n		\n						\n				\n					\n		\n				\n			\n						\n				\n							\n			\n		\n						\n				\n					\n		\n					\n		\n				\n						\n					\n			\n						\n				\n					Inschrijven				\n				\n					\n		\n					\n		\n				\n						\n					\n			\n						\n				\n							\n	Tickets\n	\n	\n	\n	\n	\n\n	\n		The numbers below include tickets for this event already in your cart. Clicking "Get Tickets" will allow you to edit any existing attendee information as well as change ticket quantities.	\n\n\n	\n			\n	\n	Tickets are no longer available\n\n		\n	\n		\n		\n		\n	\n\n\n\n	\n\n\n						\n				\n					\n		\n					\n		\n				\n		
URL:https://zigzaghr.be/event/nxt-teamleader/
CATEGORIES:#ZigZagHR NXT
ATTACH;FMTTYPE=image/jpeg:https://zigzaghr.be/wp-content/uploads/2023/09/CCaroline-Dupont-Photography_230913nr105226-min-scaled.jpg
END:VEVENT
END:VCALENDAR