BEGIN:VCALENDAR
VERSION:2.0
PRODID:-//#ZigZagHR - ECPv5.0.0.2//NONSGML v1.0//EN
CALSCALE:GREGORIAN
METHOD:PUBLISH
X-WR-CALNAME:#ZigZagHR
X-ORIGINAL-URL:https://zigzaghr.be
X-WR-CALDESC:Events for #ZigZagHR
BEGIN:VTIMEZONE
TZID:Europe/Brussels
BEGIN:DAYLIGHT
TZOFFSETFROM:+0100
TZOFFSETTO:+0200
TZNAME:CEST
DTSTART:20240331T010000
END:DAYLIGHT
BEGIN:STANDARD
TZOFFSETFROM:+0200
TZOFFSETTO:+0100
TZNAME:CET
DTSTART:20241027T010000
END:STANDARD
END:VTIMEZONE
BEGIN:VEVENT
DTSTART;TZID=Europe/Brussels:20240319T103000
DTEND;TZID=Europe/Brussels:20240319T120000
DTSTAMP:20260421T114449
CREATED:20240212T104227Z
LAST-MODIFIED:20240723T093908Z
UID:52116-1710844200-1710849600@zigzaghr.be
SUMMARY:NXT Masterclass: Welzijn op het werk
DESCRIPTION:		\n						\n							\n							\n					\n			\n						\n				\n									\n					\n						\n									#ZigZagHR NXT\n					\n					\n				\n								\n				\n				\n				\n					NXT Masterclass: Welzijn op het werk				\n				\n				\n				\n							\n\n						\n				\n								\n			\n			\n						\n\n									\n						\n							Online						\n					\n				\n				\n			\n			\n		\n						\n				\n				\n				\n							\n\n						\n				\n								\n			\n			\n						\n\n									\n						\n							19 maart 2024						\n					\n				\n				\n			\n			\n		\n						\n				\n				\n				\n							\n\n						\n				\n								\n			\n			\n						\n\n									\n						\n							10u30 - 12u00						\n					\n				\n				\n			\n			\n		\n						\n				\n				\n				\n									\n					\n						\n									Ik schrijf me in\n					\n					\n				\n								\n				\n					\n		\n					\n		\n				\n						\n					\n			\n						\n				\n									Welzijn op het werk: van theorie naar praktijkOp dinsdag 19 maart organiseert #ZigZagHR NXT een exclusieve online masterclass over welzijn op het werk\, samen met experten van AG Health Partner. Ontdek hoe je op een constructieve manier een welzijnsbeleid integreert in de cultuur van jouw organisatie tijdens het webinar “Welzijn op het werk – Een geïntegreerde aanpak”. Verken innovatieve strategieën die zowel het fysieke\, mentale en sociale welzijn van medewerkers bevorderen. Samen duiken we in een holistische benadering die niet alleen de productiviteit verhoogt\, maar ook de tevredenheid en betrokkenheid van het personeel versterkt. Ontdek samen met Christophe Vanhaecke – corporate wellbeing manager bij AG Health Partner – hoe jij de stap zet naar een gezondere en geëngageerde werkplek. Praktisch:Datum: dinsdag 19 maartWaar: onlineTijd: 10u30-12u00Inschrijven: gratis voor NXT ledenOpgelet: deze sessie is enkel voor #ZigZagHR NXT leden. Ben jij nog geen lid? Word vandaag nog lid en neem deel aan deze masterclass.  								\n				\n					\n		\n					\n		\n				\n						\n					\n			\n						\n				\n																														\n				\n					\n		\n					\n		\n				\n						\n					\n			\n						\n				\n					Locatie				\n				\n				\n				\n							\n\n						\n				\n								\n			\n			\n						\n\n									\n						\n							Online sessie						\n					\n				\n				\n			\n			\n		\n						\n				\n					\n		\n				\n			\n						\n				\n							\n			\n		\n						\n				\n					\n		\n					\n		\n				\n						\n					\n			\n						\n				\n					Inschrijven				\n				\n					\n		\n					\n		\n				\n						\n					\n			\n						\n				\n							\n	Tickets\n	\n	\n	\n	\n	\n\n	\n		The numbers below include tickets for this event already in your cart. Clicking "Get Tickets" will allow you to edit any existing attendee information as well as change ticket quantities.	\n\n\n	\n			\n	\n	Tickets are no longer available\n\n		\n	\n		\n		\n		\n	\n\n\n\n	\n\n\n						\n				\n					\n		\n					\n		\n				\n						\n					\n			\n						\n				\n					Partner				\n				\n				\n				\n									Dit event werd mee mogelijk gemaakt dankzij deze partner 								\n				\n				\n						\n					\n			\n							\n		\n				\n			\n						\n				\n																														\n				\n					\n		\n				\n			\n							\n		\n					\n		\n					\n		\n					\n		\n				\n		
URL:https://zigzaghr.be/event/nxt-masterclass-welzijn-op-het-werk/
CATEGORIES:#ZigZagHR NXT
ATTACH;FMTTYPE=image/jpeg:https://zigzaghr.be/wp-content/uploads/2024/02/6.jpg
END:VEVENT
END:VCALENDAR