BEGIN:VCALENDAR
VERSION:2.0
PRODID:-//#ZigZagHR - ECPv5.0.0.2//NONSGML v1.0//EN
CALSCALE:GREGORIAN
METHOD:PUBLISH
X-WR-CALNAME:#ZigZagHR
X-ORIGINAL-URL:https://zigzaghr.be
X-WR-CALDESC:Events for #ZigZagHR
BEGIN:VTIMEZONE
TZID:Europe/Brussels
BEGIN:DAYLIGHT
TZOFFSETFROM:+0100
TZOFFSETTO:+0200
TZNAME:CEST
DTSTART:20240331T010000
END:DAYLIGHT
BEGIN:STANDARD
TZOFFSETFROM:+0200
TZOFFSETTO:+0100
TZNAME:CET
DTSTART:20241027T010000
END:STANDARD
END:VTIMEZONE
BEGIN:VEVENT
DTSTART;TZID=Europe/Brussels:20240227T160000
DTEND;TZID=Europe/Brussels:20240227T190000
DTSTAMP:20260421T120206
CREATED:20240120T140605Z
LAST-MODIFIED:20240723T093909Z
UID:51090-1709049600-1709060400@zigzaghr.be
SUMMARY:NXT @ Arvesta
DESCRIPTION:		\n						\n							\n							\n					\n			\n						\n				\n									\n					\n						\n									#ZigZagHR NXT\n					\n					\n				\n								\n				\n				\n				\n					NXT @ Arvesta				\n				\n				\n				\n							\n\n						\n				\n								\n			\n			\n						\n\n									\n						\n							Arvesta | Aarschotsesteenweg 80\, 3012 Leuven						\n					\n				\n				\n			\n			\n		\n						\n				\n				\n				\n							\n\n						\n				\n								\n			\n			\n						\n\n									\n						\n							27 februari 2024						\n					\n				\n				\n			\n			\n		\n						\n				\n				\n				\n							\n\n						\n				\n								\n			\n			\n						\n\n									\n						\n							16u00 - 19u00						\n					\n				\n				\n			\n			\n		\n						\n				\n				\n				\n									\n					\n						\n									Ik schrijf me in\n					\n					\n				\n								\n				\n					\n		\n					\n		\n				\n						\n					\n			\n						\n				\n									#ZigZagHR NXT op bezoek bij Arvesta.Op dinsdag 27 februari gaan we met de #ZigZagHR NXT community langs bij Arvesta.We beloven je een namiddag vol inspiratie\, praktische tips\, nieuwe connecties en een exclusieve kijk achter de schermen door CHRO Karin Van Roy. In enkele jaren tijd bouwde zij een indrukwekkend en innovatief HR-beleid op – strategisch doordacht en met een focus op de human in human resources. Ze vertelt je er alles over tijdens ons exclusief bezoek. Programma: 16u00 – 16u30: Mix & MingleWe beginnen onze namiddag met een warm welkom en fijn netwerkmoment\, inclusief hapjes en drankjes.16u30 – 17u30: Talk en Q&A met Karin Van RoyLaat je inspireren door Karin\, CHRO bij Arvesta\, die haar inzichten en ervaringen deelt in een boeiende talk. Stel al je vragen tijdens de interactieve Q&A.17u30 – 18u15: Achter-de-schermenKarin neemt ons mee op een rondleiding door het kantoor en de logistieke hub van Arvesta – zo krijg je een unieke kijk achter de schermen en leer je meer over hun cultuur en organisatie.18u15 – 19u: Connect & reflectWe sluiten de namiddag af met een informeel netwerkmoment. Na de rondleiding bundelen we kort onze opgedane kennis. Deel jouw inzichten met andere NXT’ers en ga naar huis met nieuwe perspectieven en concrete take-aways.(p.s.: we beloven je ook dat je niet met lege handen naar huis gaat 😉) InschrijvenDit event is exclusief voor leden van onze #ZigZagHR NXT community. Ben jij lid? Schrijf je dan gratis in en wees zeker van jouw plekje.Ben je nog geen lid? Word dan nu snel nog deel van onze community en mis niks! 								\n				\n					\n		\n					\n		\n				\n						\n					\n			\n							\n		\n					\n		\n				\n						\n					\n			\n						\n				\n					Locatie				\n				\n				\n				\n							\n\n						\n				\n								\n			\n			\n						\n\n									\n						\n							Arvesta						\n					\n				\n									\n						Aarschotsesteenweg 80\, 3012 Leuven					 \n				\n			\n			\n		\n						\n				\n					\n		\n				\n			\n						\n				\n							\n			\n		\n						\n				\n					\n		\n					\n		\n				\n						\n					\n			\n						\n				\n					Inschrijven				\n				\n					\n		\n					\n		\n				\n						\n					\n			\n						\n				\n							\n	Tickets\n	\n	\n	\n	\n	\n\n	\n		The numbers below include tickets for this event already in your cart. Clicking "Get Tickets" will allow you to edit any existing attendee information as well as change ticket quantities.	\n\n\n	\n			\n	\n	Tickets zijn nog niet beschikbaar. Nog even geduld!\n\n		\n	\n		\n		\n		\n	\n\n\n\n	\n\n\n						\n				\n					\n		\n					\n		\n				\n						\n					\n			\n							\n		\n					\n		\n				\n		
URL:https://zigzaghr.be/event/nxt-arvesta/
CATEGORIES:#ZigZagHR NXT
ATTACH;FMTTYPE=image/jpeg:https://zigzaghr.be/wp-content/uploads/2023/12/CCD_200828nr121759-Arvesta-Karin-Van-Roy-voorkeur-1-min-scaled.jpg
END:VEVENT
END:VCALENDAR