BEGIN:VCALENDAR
VERSION:2.0
PRODID:-//#ZigZagHR - ECPv5.0.0.2//NONSGML v1.0//EN
CALSCALE:GREGORIAN
METHOD:PUBLISH
X-WR-CALNAME:#ZigZagHR
X-ORIGINAL-URL:https://zigzaghr.be
X-WR-CALDESC:Events for #ZigZagHR
BEGIN:VTIMEZONE
TZID:Europe/Brussels
BEGIN:DAYLIGHT
TZOFFSETFROM:+0100
TZOFFSETTO:+0200
TZNAME:CEST
DTSTART:20230326T010000
END:DAYLIGHT
BEGIN:STANDARD
TZOFFSETFROM:+0200
TZOFFSETTO:+0100
TZNAME:CET
DTSTART:20231029T010000
END:STANDARD
END:VTIMEZONE
BEGIN:VEVENT
DTSTART;TZID=Europe/Brussels:20230602T080000
DTEND;TZID=Europe/Brussels:20230602T170000
DTSTAMP:20260423T220854
CREATED:20230502T151347Z
LAST-MODIFIED:20230502T151718Z
UID:40296-1685692800-1685725200@zigzaghr.be
SUMMARY:Levenslang leren. Op zoek naar een ander narratief - Zaventem
DESCRIPTION:		\n						\n							\n							\n					\n			\n						\n				\n									\n					\n						\n									Rond-De-Tafel\n					\n					\n				\n								\n				\n				\n				\n									\n					\n						\n									Roadshow\n					\n					\n				\n								\n				\n				\n				\n					Levenslang leren. Op zoek naar een ander narratief – Zaventem				\n				\n				\n				\n							\n\n						\n				\n								\n			\n			\n						\n\n									\n						\n							Brasserie De National\, Du Roy de Blicquylaan 7\, 1933 Zaventem						\n					\n				\n				\n			\n			\n		\n						\n				\n				\n				\n							\n\n						\n				\n								\n			\n			\n						\n\n									\n						\n							2 juni 2023						\n					\n				\n				\n			\n			\n		\n						\n				\n				\n				\n							\n\n						\n				\n								\n			\n			\n						\n\n									\n						\n							Vanaf 12u00						\n					\n				\n				\n			\n			\n		\n						\n				\n					\n		\n					\n		\n				\n						\n					\n			\n						\n				\n									Levenslang leren. Belgen doen het niet graag en als we de onderzoeken mogen geloven\, doen ze het veel te weinig en vinden ze dat eigenlijk ook niet problematisch. In verhouding tot de rest van Europa hinkt België achterop waardoor ons land onvoldoende voorbereid is op de toekomst. Als er al geleerd wordt\, beperkt zich dat tot opleidingen in het kader van de huidige job\, bij voorkeur tijdens de werkuren en betaald door de werkgever. Het loopbaanperspectief ontbreekt nagenoeg volledig. Wie niet werkt\, volgt doorgaans geen opleidingen.  Dergelijke communicatie helpt natuurlijk niet om het belang van levenslang leren ‘op de kaart’ te zetten en het zet al helemaal niet aan tot actie.  Klopt die negatieve berichtgeving wel? Misschien leren we veel meer\, maar wordt het niet altijd als dusdanig gepercipieerd en dus ook niet geregistreerd. Tijdens een heuse Skilling Roadshow trekken we dwars door het land en gaan we in gesprek met HR professionals en bedrijfsleiders\, op zoek naar een ander narratief. Want Belgische werkgevers zijn met 34% veruit de grootste aanbieder van opleidingen voor werkenden. Dat blijkt uit een studie van Randstad. Levenslang leren is wel degelijk een realiteit\, maar vooral op de werkvloer.  In een reeks van drie Rond-De-Tafels bekijken we levenslang leren met de bril van de werkgevers & HR. Geen analyse van het probleem \, want analyses zijn er al genoeg. Wij engageren ons tot concrete antwoorden. Programma12u00 – 12u30: Onthaal12u30 – 16u30: Rond-De-Tafel & lunch16u30: NetwerkenHet is niet meer mogelijk om hiervoor in te schrijven. Wil je graag ook eens aansluiten bij een Rond-De-Tafel? Mail naar lesley@zigzaghr.be  								\n				\n					\n		\n					\n		\n				\n						\n					\n			\n						\n				\n					Locatie				\n				\n				\n				\n							\n\n						\n				\n								\n			\n			\n						\n\n									\n						\n							Brasserie De National						\n					\n				\n									\n						Du Roy de Blicquylaan 7 1933 Zaventem\n					 \n				\n			\n			\n		\n						\n				\n					\n		\n				\n			\n						\n				\n							\n			\n		\n						\n				\n					\n		\n					\n		\n				\n						\n					\n			\n						\n				\n					Partners				\n				\n				\n				\n									Dit event werd mee mogelijk gemaakt dankzij deze partner: 								\n				\n				\n						\n					\n			\n						\n				\n																														\n				\n					\n		\n					\n		\n					\n		\n					\n		\n				\n		
URL:https://zigzaghr.be/event/levenslang-leren-op-zoek-naar-een-ander-narratief-zaventem/
CATEGORIES:#ZigZagHR Rond-De-Tafel
ATTACH;FMTTYPE=image/jpeg:https://zigzaghr.be/wp-content/uploads/2023/05/iStock-1364544694.jpeg
END:VEVENT
END:VCALENDAR